 BEGIN:VCALENDAR
VERSION:2.0
PRODID:-//Werken bij Trinamiek - ECPv6.15.20//NONSGML v1.0//EN
CALSCALE:GREGORIAN
METHOD:PUBLISH
X-WR-CALNAME:Werken bij Trinamiek
X-ORIGINAL-URL:https://werkenbijtrinamiek.nl
X-WR-CALDESC:Evenementen voor Werken bij Trinamiek
REFRESH-INTERVAL;VALUE=DURATION:PT1H
X-Robots-Tag:noindex
X-PUBLISHED-TTL:PT1H
BEGIN:VTIMEZONE
TZID:Europe/Amsterdam
BEGIN:DAYLIGHT
TZOFFSETFROM:+0100
TZOFFSETTO:+0200
TZNAME:CEST
DTSTART:20220327T010000
END:DAYLIGHT
BEGIN:STANDARD
TZOFFSETFROM:+0200
TZOFFSETTO:+0100
TZNAME:CET
DTSTART:20221030T010000
END:STANDARD
BEGIN:DAYLIGHT
TZOFFSETFROM:+0100
TZOFFSETTO:+0200
TZNAME:CEST
DTSTART:20230326T010000
END:DAYLIGHT
BEGIN:STANDARD
TZOFFSETFROM:+0200
TZOFFSETTO:+0100
TZNAME:CET
DTSTART:20231029T010000
END:STANDARD
BEGIN:DAYLIGHT
TZOFFSETFROM:+0100
TZOFFSETTO:+0200
TZNAME:CEST
DTSTART:20240331T010000
END:DAYLIGHT
BEGIN:STANDARD
TZOFFSETFROM:+0200
TZOFFSETTO:+0100
TZNAME:CET
DTSTART:20241027T010000
END:STANDARD
END:VTIMEZONE
BEGIN:VEVENT
DTSTART;TZID=Europe/Amsterdam:20231009T090000
DTEND;TZID=Europe/Amsterdam:20231009T100000
DTSTAMP:20260419T181337
CREATED:20230925T112410Z
LAST-MODIFIED:20230925T114811Z
UID:12160-1696842000-1696845600@werkenbijtrinamiek.nl
SUMMARY:Een exclusief kijkje bij: Kindcentrum WIJ! Kom op de koffie tijdens het inloopuurtje
DESCRIPTION:Ben jij als startende of ervaren leerkracht op zoek naar een werkplek die écht bij je past? Kom dan op woensdag 1 of dinsdag 7 april speeddaten bij Trinamiek! Ontdek alvast jouw kansen en mogelijkheden op (één van) onze basisscholen en wie weet maak jij straks samen met ons het verschil voor kinderen in het basisonderwijs. \n \nWat ga je doen?\nTijdens speeddaterondes van 5 minuten maak jij op een laagdrempelige wijze kennis met Trinamiek. Ga in gesprek met directeuren van Trinamiekscholen\, bespreek jouw mogelijkheden binnen onze Talentpool of ontdek andere loopbaanmogelijkheden binnen Trinamiek tijdens een kennismakingsgesprek. \nBen je tijdens de speeddaterondes enthousiast geworden? Na afloop is er ruimte om direct contact te leggen met de directeuren of vertegenwoordigers naar interesse. We hopen natuurlijk dat er hier net als voorgaande jaren weer mooie matches ontstaan! \nVoor wie?\nDe speeddatesessie is bedoeld voor alle startende en ervaren bevoegde leerkrachten die: \n\ngraag op laagdrempelige manier ontdekken welke werkplek het beste bij hen past;\nhet leuk lijken om deel te nemen aan een Talentpool en talenten op meerdere scholen willen inzetten.\n\nLocatie & tijd\nLocatie: Trinamiek\, Boerhaaveweg 39\, 3401 MN IJsselstein \nDatum en tijd: woensdag 1 april of dinsdag 7 april van 16:00 – 17:00 uur \nAanmelden\nJe kunt je voor dit evenement niet meer aanmelden. \n 
URL:https://werkenbijtrinamiek.nl/event/een-exclusief-kijkje-bij-kindcentrum-wij-2okt-copy/
LOCATION:Kindcentrum WIJ\, Europalaan 1\, IJsselstein\, Utrecht\, 3402 TZ\, Nederland
CATEGORIES:Inloopuurtjes scholen
ATTACH;FMTTYPE=image/jpeg:https://werkenbijtrinamiek.nl/wp-content/uploads/2023/09/image00002-e1695628235932.jpeg
END:VEVENT
END:VCALENDAR